BEGIN:VCALENDAR
VERSION:2.0
PRODID:-//Drupal iCal API//EN
X-WR-CALNAME:Events items teaser
X-WR-TIMEZONE:America/Toronto
BEGIN:VTIMEZONE
TZID:America/Toronto
X-LIC-LOCATION:America/Toronto
BEGIN:DAYLIGHT
TZNAME:EDT
TZOFFSETFROM:-0500
TZOFFSETTO:-0400
DTSTART:20180311T070000
END:DAYLIGHT
BEGIN:STANDARD
TZNAME:EST
TZOFFSETFROM:-0400
TZOFFSETTO:-0500
DTSTART:20171105T060000
END:STANDARD
END:VTIMEZONE
BEGIN:VEVENT
UID:69e8928fe8a85
DTSTART;TZID=America/Toronto:20180502T140000
SEQUENCE:0
TRANSP:TRANSPARENT
DTEND;TZID=America/Toronto:20180502T163000
URL:https://uwaterloo.ca/writing-and-communication-centre/events/faculty-wr
 iting-cafe
SUMMARY:Faculty Writing Café
CLASS:PUBLIC
DESCRIPTION:Every WEDNESDAY afternoon\, we offer a dedicated writing space 
 (with\ncoffee\, tea\, and treats!) for faculty to write together. After th
 e\nwriting session you are welcome to stay to discuss writing goals\,\ncha
 llenges and strategies with your colleagues.\n\nFACULTY WRITING CAFÉ:
DTSTAMP:20260422T091911Z
END:VEVENT
BEGIN:VEVENT
UID:69e8928fe9d40
DTSTART;TZID=America/Toronto:20180509T140000
SEQUENCE:0
TRANSP:TRANSPARENT
DTEND;TZID=America/Toronto:20180509T163000
URL:https://uwaterloo.ca/writing-and-communication-centre/events/faculty-wr
 iting-cafe
SUMMARY:Faculty Writing Café
CLASS:PUBLIC
DESCRIPTION:Every WEDNESDAY afternoon\, we offer a dedicated writing space 
 (with\ncoffee\, tea\, and treats!) for faculty to write together. After th
 e\nwriting session you are welcome to stay to discuss writing goals\,\ncha
 llenges and strategies with your colleagues.\n\nFACULTY WRITING CAFÉ:
DTSTAMP:20260422T091911Z
END:VEVENT
BEGIN:VEVENT
UID:69e8928fea6d5
DTSTART;TZID=America/Toronto:20180516T140000
SEQUENCE:0
TRANSP:TRANSPARENT
DTEND;TZID=America/Toronto:20180516T163000
URL:https://uwaterloo.ca/writing-and-communication-centre/events/faculty-wr
 iting-cafe
SUMMARY:Faculty Writing Café
CLASS:PUBLIC
DESCRIPTION:Every WEDNESDAY afternoon\, we offer a dedicated writing space 
 (with\ncoffee\, tea\, and treats!) for faculty to write together. After th
 e\nwriting session you are welcome to stay to discuss writing goals\,\ncha
 llenges and strategies with your colleagues.\n\nFACULTY WRITING CAFÉ:
DTSTAMP:20260422T091911Z
END:VEVENT
BEGIN:VEVENT
UID:69e8928feb080
DTSTART;TZID=America/Toronto:20180523T140000
SEQUENCE:0
TRANSP:TRANSPARENT
DTEND;TZID=America/Toronto:20180523T163000
URL:https://uwaterloo.ca/writing-and-communication-centre/events/faculty-wr
 iting-cafe
SUMMARY:Faculty Writing Café
CLASS:PUBLIC
DESCRIPTION:Every WEDNESDAY afternoon\, we offer a dedicated writing space 
 (with\ncoffee\, tea\, and treats!) for faculty to write together. After th
 e\nwriting session you are welcome to stay to discuss writing goals\,\ncha
 llenges and strategies with your colleagues.\n\nFACULTY WRITING CAFÉ:
DTSTAMP:20260422T091911Z
END:VEVENT
BEGIN:VEVENT
UID:69e8928feb944
DTSTART;TZID=America/Toronto:20180530T140000
SEQUENCE:0
TRANSP:TRANSPARENT
DTEND;TZID=America/Toronto:20180530T163000
URL:https://uwaterloo.ca/writing-and-communication-centre/events/faculty-wr
 iting-cafe
SUMMARY:Faculty Writing Café
CLASS:PUBLIC
DESCRIPTION:Every WEDNESDAY afternoon\, we offer a dedicated writing space 
 (with\ncoffee\, tea\, and treats!) for faculty to write together. After th
 e\nwriting session you are welcome to stay to discuss writing goals\,\ncha
 llenges and strategies with your colleagues.\n\nFACULTY WRITING CAFÉ:
DTSTAMP:20260422T091911Z
END:VEVENT
BEGIN:VEVENT
UID:69e8928fec19a
DTSTART;TZID=America/Toronto:20180606T140000
SEQUENCE:0
TRANSP:TRANSPARENT
DTEND;TZID=America/Toronto:20180606T163000
URL:https://uwaterloo.ca/writing-and-communication-centre/events/faculty-wr
 iting-cafe
SUMMARY:Faculty Writing Café
CLASS:PUBLIC
DESCRIPTION:Every WEDNESDAY afternoon\, we offer a dedicated writing space 
 (with\ncoffee\, tea\, and treats!) for faculty to write together. After th
 e\nwriting session you are welcome to stay to discuss writing goals\,\ncha
 llenges and strategies with your colleagues.\n\nFACULTY WRITING CAFÉ:
DTSTAMP:20260422T091911Z
END:VEVENT
BEGIN:VEVENT
UID:69e8928feca7e
DTSTART;TZID=America/Toronto:20180613T140000
SEQUENCE:0
TRANSP:TRANSPARENT
DTEND;TZID=America/Toronto:20180613T163000
URL:https://uwaterloo.ca/writing-and-communication-centre/events/faculty-wr
 iting-cafe
SUMMARY:Faculty Writing Café
CLASS:PUBLIC
DESCRIPTION:Every WEDNESDAY afternoon\, we offer a dedicated writing space 
 (with\ncoffee\, tea\, and treats!) for faculty to write together. After th
 e\nwriting session you are welcome to stay to discuss writing goals\,\ncha
 llenges and strategies with your colleagues.\n\nFACULTY WRITING CAFÉ:
DTSTAMP:20260422T091911Z
END:VEVENT
BEGIN:VEVENT
UID:69e8928fed31a
DTSTART;TZID=America/Toronto:20180620T140000
SEQUENCE:0
TRANSP:TRANSPARENT
DTEND;TZID=America/Toronto:20180620T163000
URL:https://uwaterloo.ca/writing-and-communication-centre/events/faculty-wr
 iting-cafe
SUMMARY:Faculty Writing Café
CLASS:PUBLIC
DESCRIPTION:Every WEDNESDAY afternoon\, we offer a dedicated writing space 
 (with\ncoffee\, tea\, and treats!) for faculty to write together. After th
 e\nwriting session you are welcome to stay to discuss writing goals\,\ncha
 llenges and strategies with your colleagues.\n\nFACULTY WRITING CAFÉ:
DTSTAMP:20260422T091911Z
END:VEVENT
BEGIN:VEVENT
UID:69e8928fedb8f
DTSTART;TZID=America/Toronto:20180627T140000
SEQUENCE:0
TRANSP:TRANSPARENT
DTEND;TZID=America/Toronto:20180627T163000
URL:https://uwaterloo.ca/writing-and-communication-centre/events/faculty-wr
 iting-cafe
SUMMARY:Faculty Writing Café
CLASS:PUBLIC
DESCRIPTION:Every WEDNESDAY afternoon\, we offer a dedicated writing space 
 (with\ncoffee\, tea\, and treats!) for faculty to write together. After th
 e\nwriting session you are welcome to stay to discuss writing goals\,\ncha
 llenges and strategies with your colleagues.\n\nFACULTY WRITING CAFÉ:
DTSTAMP:20260422T091911Z
END:VEVENT
BEGIN:VEVENT
UID:69e8928fee3be
DTSTART;TZID=America/Toronto:20180704T140000
SEQUENCE:0
TRANSP:TRANSPARENT
DTEND;TZID=America/Toronto:20180704T163000
URL:https://uwaterloo.ca/writing-and-communication-centre/events/faculty-wr
 iting-cafe
SUMMARY:Faculty Writing Café
CLASS:PUBLIC
DESCRIPTION:Every WEDNESDAY afternoon\, we offer a dedicated writing space 
 (with\ncoffee\, tea\, and treats!) for faculty to write together. After th
 e\nwriting session you are welcome to stay to discuss writing goals\,\ncha
 llenges and strategies with your colleagues.\n\nFACULTY WRITING CAFÉ:
DTSTAMP:20260422T091911Z
END:VEVENT
BEGIN:VEVENT
UID:69e8928feec22
DTSTART;TZID=America/Toronto:20180711T140000
SEQUENCE:0
TRANSP:TRANSPARENT
DTEND;TZID=America/Toronto:20180711T163000
URL:https://uwaterloo.ca/writing-and-communication-centre/events/faculty-wr
 iting-cafe
SUMMARY:Faculty Writing Café
CLASS:PUBLIC
DESCRIPTION:Every WEDNESDAY afternoon\, we offer a dedicated writing space 
 (with\ncoffee\, tea\, and treats!) for faculty to write together. After th
 e\nwriting session you are welcome to stay to discuss writing goals\,\ncha
 llenges and strategies with your colleagues.\n\nFACULTY WRITING CAFÉ:
DTSTAMP:20260422T091911Z
END:VEVENT
BEGIN:VEVENT
UID:69e8928fef429
DTSTART;TZID=America/Toronto:20180718T140000
SEQUENCE:0
TRANSP:TRANSPARENT
DTEND;TZID=America/Toronto:20180718T163000
URL:https://uwaterloo.ca/writing-and-communication-centre/events/faculty-wr
 iting-cafe
SUMMARY:Faculty Writing Café
CLASS:PUBLIC
DESCRIPTION:Every WEDNESDAY afternoon\, we offer a dedicated writing space 
 (with\ncoffee\, tea\, and treats!) for faculty to write together. After th
 e\nwriting session you are welcome to stay to discuss writing goals\,\ncha
 llenges and strategies with your colleagues.\n\nFACULTY WRITING CAFÉ:
DTSTAMP:20260422T091911Z
END:VEVENT
BEGIN:VEVENT
UID:69e8928fefc37
DTSTART;TZID=America/Toronto:20180725T140000
SEQUENCE:0
TRANSP:TRANSPARENT
DTEND;TZID=America/Toronto:20180725T163000
URL:https://uwaterloo.ca/writing-and-communication-centre/events/faculty-wr
 iting-cafe
SUMMARY:Faculty Writing Café
CLASS:PUBLIC
DESCRIPTION:Every WEDNESDAY afternoon\, we offer a dedicated writing space 
 (with\ncoffee\, tea\, and treats!) for faculty to write together. After th
 e\nwriting session you are welcome to stay to discuss writing goals\,\ncha
 llenges and strategies with your colleagues.\n\nFACULTY WRITING CAFÉ:
DTSTAMP:20260422T091911Z
END:VEVENT
BEGIN:VEVENT
UID:69e8928ff045c
DTSTART;TZID=America/Toronto:20180801T140000
SEQUENCE:0
TRANSP:TRANSPARENT
DTEND;TZID=America/Toronto:20180801T163000
URL:https://uwaterloo.ca/writing-and-communication-centre/events/faculty-wr
 iting-cafe
SUMMARY:Faculty Writing Café
CLASS:PUBLIC
DESCRIPTION:Every WEDNESDAY afternoon\, we offer a dedicated writing space 
 (with\ncoffee\, tea\, and treats!) for faculty to write together. After th
 e\nwriting session you are welcome to stay to discuss writing goals\,\ncha
 llenges and strategies with your colleagues.\n\nFACULTY WRITING CAFÉ:
DTSTAMP:20260422T091911Z
END:VEVENT
BEGIN:VEVENT
UID:69e8928ff0ce9
DTSTART;TZID=America/Toronto:20180808T140000
SEQUENCE:0
TRANSP:TRANSPARENT
DTEND;TZID=America/Toronto:20180808T163000
URL:https://uwaterloo.ca/writing-and-communication-centre/events/faculty-wr
 iting-cafe
SUMMARY:Faculty Writing Café
CLASS:PUBLIC
DESCRIPTION:Every WEDNESDAY afternoon\, we offer a dedicated writing space 
 (with\ncoffee\, tea\, and treats!) for faculty to write together. After th
 e\nwriting session you are welcome to stay to discuss writing goals\,\ncha
 llenges and strategies with your colleagues.\n\nFACULTY WRITING CAFÉ:
DTSTAMP:20260422T091911Z
END:VEVENT
BEGIN:VEVENT
UID:69e8928ff1593
DTSTART;TZID=America/Toronto:20180815T140000
SEQUENCE:0
TRANSP:TRANSPARENT
DTEND;TZID=America/Toronto:20180815T163000
URL:https://uwaterloo.ca/writing-and-communication-centre/events/faculty-wr
 iting-cafe
SUMMARY:Faculty Writing Café
CLASS:PUBLIC
DESCRIPTION:Every WEDNESDAY afternoon\, we offer a dedicated writing space 
 (with\ncoffee\, tea\, and treats!) for faculty to write together. After th
 e\nwriting session you are welcome to stay to discuss writing goals\,\ncha
 llenges and strategies with your colleagues.\n\nFACULTY WRITING CAFÉ:
DTSTAMP:20260422T091911Z
END:VEVENT
BEGIN:VEVENT
UID:69e8928ff1dab
DTSTART;TZID=America/Toronto:20180822T140000
SEQUENCE:0
TRANSP:TRANSPARENT
DTEND;TZID=America/Toronto:20180822T163000
URL:https://uwaterloo.ca/writing-and-communication-centre/events/faculty-wr
 iting-cafe
SUMMARY:Faculty Writing Café
CLASS:PUBLIC
DESCRIPTION:Every WEDNESDAY afternoon\, we offer a dedicated writing space 
 (with\ncoffee\, tea\, and treats!) for faculty to write together. After th
 e\nwriting session you are welcome to stay to discuss writing goals\,\ncha
 llenges and strategies with your colleagues.\n\nFACULTY WRITING CAFÉ:
DTSTAMP:20260422T091911Z
END:VEVENT
BEGIN:VEVENT
UID:69e8928ff25f7
DTSTART;TZID=America/Toronto:20180829T140000
SEQUENCE:0
TRANSP:TRANSPARENT
DTEND;TZID=America/Toronto:20180829T163000
URL:https://uwaterloo.ca/writing-and-communication-centre/events/faculty-wr
 iting-cafe
SUMMARY:Faculty Writing Café
CLASS:PUBLIC
DESCRIPTION:Every WEDNESDAY afternoon\, we offer a dedicated writing space 
 (with\ncoffee\, tea\, and treats!) for faculty to write together. After th
 e\nwriting session you are welcome to stay to discuss writing goals\,\ncha
 llenges and strategies with your colleagues.\n\nFACULTY WRITING CAFÉ:
DTSTAMP:20260422T091911Z
END:VEVENT
END:VCALENDAR