BEGIN:VCALENDAR
VERSION:2.0
PRODID:-//Drupal iCal API//EN
X-WR-CALNAME:Events items teaser
X-WR-TIMEZONE:America/Toronto
BEGIN:VTIMEZONE
TZID:America/Toronto
X-LIC-LOCATION:America/Toronto
BEGIN:DAYLIGHT
TZNAME:EDT
TZOFFSETFROM:-0500
TZOFFSETTO:-0400
DTSTART:20180311T070000
END:DAYLIGHT
BEGIN:STANDARD
TZNAME:EST
TZOFFSETFROM:-0400
TZOFFSETTO:-0500
DTSTART:20171105T060000
END:STANDARD
BEGIN:STANDARD
TZNAME:EST
TZOFFSETFROM:-0400
TZOFFSETTO:-0500
DTSTART:20181104T060000
END:STANDARD
END:VTIMEZONE
BEGIN:VEVENT
UID:69e715c7dfe8d
DTSTART;TZID=America/Toronto:20180905T140000
SEQUENCE:0
TRANSP:TRANSPARENT
DTEND;TZID=America/Toronto:20180905T163000
URL:https://uwaterloo.ca/writing-and-communication-centre/events/faculty-wr
 iting-cafe-0
SUMMARY:Faculty Writing Café
CLASS:PUBLIC
DESCRIPTION:Every WEDNESDAY afternoon\, we offer a dedicated writing space 
 (with\ncoffee\, tea\, and treats!) for faculty to write together. After th
 e\nwriting session you are welcome to stay to discuss writing goals\,\ncha
 llenges and strategies with your colleagues.\n\nFACULTY WRITING CAFÉ:
DTSTAMP:20260421T061431Z
END:VEVENT
BEGIN:VEVENT
UID:69e715c7e09dd
DTSTART;TZID=America/Toronto:20180912T140000
SEQUENCE:0
TRANSP:TRANSPARENT
DTEND;TZID=America/Toronto:20180912T163000
URL:https://uwaterloo.ca/writing-and-communication-centre/events/faculty-wr
 iting-cafe-0
SUMMARY:Faculty Writing Café
CLASS:PUBLIC
DESCRIPTION:Every WEDNESDAY afternoon\, we offer a dedicated writing space 
 (with\ncoffee\, tea\, and treats!) for faculty to write together. After th
 e\nwriting session you are welcome to stay to discuss writing goals\,\ncha
 llenges and strategies with your colleagues.\n\nFACULTY WRITING CAFÉ:
DTSTAMP:20260421T061431Z
END:VEVENT
BEGIN:VEVENT
UID:69e715c7e0f0f
DTSTART;TZID=America/Toronto:20180919T140000
SEQUENCE:0
TRANSP:TRANSPARENT
DTEND;TZID=America/Toronto:20180919T163000
URL:https://uwaterloo.ca/writing-and-communication-centre/events/faculty-wr
 iting-cafe-0
SUMMARY:Faculty Writing Café
CLASS:PUBLIC
DESCRIPTION:Every WEDNESDAY afternoon\, we offer a dedicated writing space 
 (with\ncoffee\, tea\, and treats!) for faculty to write together. After th
 e\nwriting session you are welcome to stay to discuss writing goals\,\ncha
 llenges and strategies with your colleagues.\n\nFACULTY WRITING CAFÉ:
DTSTAMP:20260421T061431Z
END:VEVENT
BEGIN:VEVENT
UID:69e715c7e1403
DTSTART;TZID=America/Toronto:20180926T140000
SEQUENCE:0
TRANSP:TRANSPARENT
DTEND;TZID=America/Toronto:20180926T163000
URL:https://uwaterloo.ca/writing-and-communication-centre/events/faculty-wr
 iting-cafe-0
SUMMARY:Faculty Writing Café
CLASS:PUBLIC
DESCRIPTION:Every WEDNESDAY afternoon\, we offer a dedicated writing space 
 (with\ncoffee\, tea\, and treats!) for faculty to write together. After th
 e\nwriting session you are welcome to stay to discuss writing goals\,\ncha
 llenges and strategies with your colleagues.\n\nFACULTY WRITING CAFÉ:
DTSTAMP:20260421T061431Z
END:VEVENT
BEGIN:VEVENT
UID:69e715c7e190c
DTSTART;TZID=America/Toronto:20181003T140000
SEQUENCE:0
TRANSP:TRANSPARENT
DTEND;TZID=America/Toronto:20181003T163000
URL:https://uwaterloo.ca/writing-and-communication-centre/events/faculty-wr
 iting-cafe-0
SUMMARY:Faculty Writing Café
CLASS:PUBLIC
DESCRIPTION:Every WEDNESDAY afternoon\, we offer a dedicated writing space 
 (with\ncoffee\, tea\, and treats!) for faculty to write together. After th
 e\nwriting session you are welcome to stay to discuss writing goals\,\ncha
 llenges and strategies with your colleagues.\n\nFACULTY WRITING CAFÉ:
DTSTAMP:20260421T061431Z
END:VEVENT
BEGIN:VEVENT
UID:69e715c7e1e49
DTSTART;TZID=America/Toronto:20181010T140000
SEQUENCE:0
TRANSP:TRANSPARENT
DTEND;TZID=America/Toronto:20181010T163000
URL:https://uwaterloo.ca/writing-and-communication-centre/events/faculty-wr
 iting-cafe-0
SUMMARY:Faculty Writing Café
CLASS:PUBLIC
DESCRIPTION:Every WEDNESDAY afternoon\, we offer a dedicated writing space 
 (with\ncoffee\, tea\, and treats!) for faculty to write together. After th
 e\nwriting session you are welcome to stay to discuss writing goals\,\ncha
 llenges and strategies with your colleagues.\n\nFACULTY WRITING CAFÉ:
DTSTAMP:20260421T061431Z
END:VEVENT
BEGIN:VEVENT
UID:69e715c7e2342
DTSTART;TZID=America/Toronto:20181017T140000
SEQUENCE:0
TRANSP:TRANSPARENT
DTEND;TZID=America/Toronto:20181017T163000
URL:https://uwaterloo.ca/writing-and-communication-centre/events/faculty-wr
 iting-cafe-0
SUMMARY:Faculty Writing Café
CLASS:PUBLIC
DESCRIPTION:Every WEDNESDAY afternoon\, we offer a dedicated writing space 
 (with\ncoffee\, tea\, and treats!) for faculty to write together. After th
 e\nwriting session you are welcome to stay to discuss writing goals\,\ncha
 llenges and strategies with your colleagues.\n\nFACULTY WRITING CAFÉ:
DTSTAMP:20260421T061431Z
END:VEVENT
BEGIN:VEVENT
UID:69e715c7e285a
DTSTART;TZID=America/Toronto:20181024T140000
SEQUENCE:0
TRANSP:TRANSPARENT
DTEND;TZID=America/Toronto:20181024T163000
URL:https://uwaterloo.ca/writing-and-communication-centre/events/faculty-wr
 iting-cafe-0
SUMMARY:Faculty Writing Café
CLASS:PUBLIC
DESCRIPTION:Every WEDNESDAY afternoon\, we offer a dedicated writing space 
 (with\ncoffee\, tea\, and treats!) for faculty to write together. After th
 e\nwriting session you are welcome to stay to discuss writing goals\,\ncha
 llenges and strategies with your colleagues.\n\nFACULTY WRITING CAFÉ:
DTSTAMP:20260421T061431Z
END:VEVENT
BEGIN:VEVENT
UID:69e715c7e2d80
DTSTART;TZID=America/Toronto:20181031T140000
SEQUENCE:0
TRANSP:TRANSPARENT
DTEND;TZID=America/Toronto:20181031T163000
URL:https://uwaterloo.ca/writing-and-communication-centre/events/faculty-wr
 iting-cafe-0
SUMMARY:Faculty Writing Café
CLASS:PUBLIC
DESCRIPTION:Every WEDNESDAY afternoon\, we offer a dedicated writing space 
 (with\ncoffee\, tea\, and treats!) for faculty to write together. After th
 e\nwriting session you are welcome to stay to discuss writing goals\,\ncha
 llenges and strategies with your colleagues.\n\nFACULTY WRITING CAFÉ:
DTSTAMP:20260421T061431Z
END:VEVENT
BEGIN:VEVENT
UID:69e715c7e3277
DTSTART;TZID=America/Toronto:20181107T140000
SEQUENCE:0
TRANSP:TRANSPARENT
DTEND;TZID=America/Toronto:20181107T163000
URL:https://uwaterloo.ca/writing-and-communication-centre/events/faculty-wr
 iting-cafe-0
SUMMARY:Faculty Writing Café
CLASS:PUBLIC
DESCRIPTION:Every WEDNESDAY afternoon\, we offer a dedicated writing space 
 (with\ncoffee\, tea\, and treats!) for faculty to write together. After th
 e\nwriting session you are welcome to stay to discuss writing goals\,\ncha
 llenges and strategies with your colleagues.\n\nFACULTY WRITING CAFÉ:
DTSTAMP:20260421T061431Z
END:VEVENT
BEGIN:VEVENT
UID:69e715c7e3765
DTSTART;TZID=America/Toronto:20181114T140000
SEQUENCE:0
TRANSP:TRANSPARENT
DTEND;TZID=America/Toronto:20181114T163000
URL:https://uwaterloo.ca/writing-and-communication-centre/events/faculty-wr
 iting-cafe-0
SUMMARY:Faculty Writing Café
CLASS:PUBLIC
DESCRIPTION:Every WEDNESDAY afternoon\, we offer a dedicated writing space 
 (with\ncoffee\, tea\, and treats!) for faculty to write together. After th
 e\nwriting session you are welcome to stay to discuss writing goals\,\ncha
 llenges and strategies with your colleagues.\n\nFACULTY WRITING CAFÉ:
DTSTAMP:20260421T061431Z
END:VEVENT
BEGIN:VEVENT
UID:69e715c7e3c5b
DTSTART;TZID=America/Toronto:20181121T140000
SEQUENCE:0
TRANSP:TRANSPARENT
DTEND;TZID=America/Toronto:20181121T163000
URL:https://uwaterloo.ca/writing-and-communication-centre/events/faculty-wr
 iting-cafe-0
SUMMARY:Faculty Writing Café
CLASS:PUBLIC
DESCRIPTION:Every WEDNESDAY afternoon\, we offer a dedicated writing space 
 (with\ncoffee\, tea\, and treats!) for faculty to write together. After th
 e\nwriting session you are welcome to stay to discuss writing goals\,\ncha
 llenges and strategies with your colleagues.\n\nFACULTY WRITING CAFÉ:
DTSTAMP:20260421T061431Z
END:VEVENT
BEGIN:VEVENT
UID:69e715c7e414f
DTSTART;TZID=America/Toronto:20181128T140000
SEQUENCE:0
TRANSP:TRANSPARENT
DTEND;TZID=America/Toronto:20181128T163000
URL:https://uwaterloo.ca/writing-and-communication-centre/events/faculty-wr
 iting-cafe-0
SUMMARY:Faculty Writing Café
CLASS:PUBLIC
DESCRIPTION:Every WEDNESDAY afternoon\, we offer a dedicated writing space 
 (with\ncoffee\, tea\, and treats!) for faculty to write together. After th
 e\nwriting session you are welcome to stay to discuss writing goals\,\ncha
 llenges and strategies with your colleagues.\n\nFACULTY WRITING CAFÉ:
DTSTAMP:20260421T061431Z
END:VEVENT
BEGIN:VEVENT
UID:69e715c7e4672
DTSTART;TZID=America/Toronto:20181205T140000
SEQUENCE:0
TRANSP:TRANSPARENT
DTEND;TZID=America/Toronto:20181205T163000
URL:https://uwaterloo.ca/writing-and-communication-centre/events/faculty-wr
 iting-cafe-0
SUMMARY:Faculty Writing Café
CLASS:PUBLIC
DESCRIPTION:Every WEDNESDAY afternoon\, we offer a dedicated writing space 
 (with\ncoffee\, tea\, and treats!) for faculty to write together. After th
 e\nwriting session you are welcome to stay to discuss writing goals\,\ncha
 llenges and strategies with your colleagues.\n\nFACULTY WRITING CAFÉ:
DTSTAMP:20260421T061431Z
END:VEVENT
BEGIN:VEVENT
UID:69e715c7e4bcf
DTSTART;TZID=America/Toronto:20181212T140000
SEQUENCE:0
TRANSP:TRANSPARENT
DTEND;TZID=America/Toronto:20181212T163000
URL:https://uwaterloo.ca/writing-and-communication-centre/events/faculty-wr
 iting-cafe-0
SUMMARY:Faculty Writing Café
CLASS:PUBLIC
DESCRIPTION:Every WEDNESDAY afternoon\, we offer a dedicated writing space 
 (with\ncoffee\, tea\, and treats!) for faculty to write together. After th
 e\nwriting session you are welcome to stay to discuss writing goals\,\ncha
 llenges and strategies with your colleagues.\n\nFACULTY WRITING CAFÉ:
DTSTAMP:20260421T061431Z
END:VEVENT
BEGIN:VEVENT
UID:69e715c7e50d4
DTSTART;TZID=America/Toronto:20181219T140000
SEQUENCE:0
TRANSP:TRANSPARENT
DTEND;TZID=America/Toronto:20181219T163000
URL:https://uwaterloo.ca/writing-and-communication-centre/events/faculty-wr
 iting-cafe-0
SUMMARY:Faculty Writing Café
CLASS:PUBLIC
DESCRIPTION:Every WEDNESDAY afternoon\, we offer a dedicated writing space 
 (with\ncoffee\, tea\, and treats!) for faculty to write together. After th
 e\nwriting session you are welcome to stay to discuss writing goals\,\ncha
 llenges and strategies with your colleagues.\n\nFACULTY WRITING CAFÉ:
DTSTAMP:20260421T061431Z
END:VEVENT
END:VCALENDAR