BEGIN:VCALENDAR
VERSION:2.0
PRODID:-//Drupal iCal API//EN
X-WR-CALNAME:Events items teaser
X-WR-TIMEZONE:America/Toronto
BEGIN:VTIMEZONE
TZID:America/Toronto
X-LIC-LOCATION:America/Toronto
BEGIN:DAYLIGHT
TZNAME:EDT
TZOFFSETFROM:-0500
TZOFFSETTO:-0400
DTSTART:20180311T070000
END:DAYLIGHT
BEGIN:STANDARD
TZNAME:EST
TZOFFSETFROM:-0400
TZOFFSETTO:-0500
DTSTART:20171105T060000
END:STANDARD
END:VTIMEZONE
BEGIN:VEVENT
UID:69e8928ed2f59
DTSTART;TZID=America/Toronto:20181001T235900
SEQUENCE:0
TRANSP:TRANSPARENT
DTEND;TZID=America/Toronto:20181001T235900
URL:https://uwaterloo.ca/writing-and-communication-centre/events/faculty-wr
 iting-group-deadline
SUMMARY:Faculty Writing Group deadline
CLASS:PUBLIC
DESCRIPTION:Are you interested in joining a community of writers who keep e
 ach\nother accountable\, give and receive feedback\, and discuss their\nwr
 iting goals\, challenges and strategies?\n\nOur eight-week Faculty Writing
  Group takes place on Wednesdays from\n4:30-5:30\, right after the Faculty
  Writing Café\, from October 17 to\nDecember 5\, 2018. Complete the Googl
 e form\n[https://docs.google.com/forms/d/e/1FAIpQLSfyXahbp4S99yQVUiRW_Dlmx
 HsDxERfpIkzBQVwdFVihQ3xIA/viewform?usp=sf_link]\nby October 1 to register!
DTSTAMP:20260422T091910Z
END:VEVENT
END:VCALENDAR