BEGIN:VCALENDAR
VERSION:2.0
PRODID:-//Drupal iCal API//EN
X-WR-CALNAME:Events items teaser
X-WR-TIMEZONE:America/Toronto
BEGIN:VTIMEZONE
TZID:America/Toronto
X-LIC-LOCATION:America/Toronto
BEGIN:DAYLIGHT
TZNAME:EDT
TZOFFSETFROM:-0500
TZOFFSETTO:-0400
DTSTART:20230312T070000
END:DAYLIGHT
BEGIN:STANDARD
TZNAME:EST
TZOFFSETFROM:-0400
TZOFFSETTO:-0500
DTSTART:20221106T060000
END:STANDARD
BEGIN:STANDARD
TZNAME:EST
TZOFFSETFROM:-0400
TZOFFSETTO:-0500
DTSTART:20231105T060000
END:STANDARD
END:VTIMEZONE
BEGIN:VEVENT
UID:69e8d72875d7e
DTSTART;TZID=America/Toronto:20230913T120000
SEQUENCE:0
TRANSP:TRANSPARENT
DTEND;TZID=America/Toronto:20230913T150000
URL:https://uwaterloo.ca/writing-and-communication-centre/events/drop-ins-d
 ana-porter-library-0
LOCATION:LIB - Dana Porter Library 200 University Avenue West Waterloo ON N
 2L 3G1 Canada
SUMMARY:Drop-ins at Dana Porter Library
CLASS:PUBLIC
DESCRIPTION:Drop-ins at Dana Porter Library are back for the Fall 2023 term
 ! Spots\nare walk-in only and are booked on a first come\, first served ba
 sis.\n\nWHEN: Tuesday to Thursday from 12:00 p.m. to 3:00 p.m.\n\nWHERE:
  Dana Porter Library (next to the circulation desk)\n\n_Tuesday\, Septemb
 er 12 to Thursday\, December 7\, 2023._
DTSTAMP:20260422T141152Z
END:VEVENT
BEGIN:VEVENT
UID:69e8d72877728
DTSTART;TZID=America/Toronto:20230920T120000
SEQUENCE:0
TRANSP:TRANSPARENT
DTEND;TZID=America/Toronto:20230920T150000
URL:https://uwaterloo.ca/writing-and-communication-centre/events/drop-ins-d
 ana-porter-library-0
LOCATION:LIB - Dana Porter Library 200 University Avenue West Waterloo ON N
 2L 3G1 Canada
SUMMARY:Drop-ins at Dana Porter Library
CLASS:PUBLIC
DESCRIPTION:Drop-ins at Dana Porter Library are back for the Fall 2023 term
 ! Spots\nare walk-in only and are booked on a first come\, first served ba
 sis.\n\nWHEN: Tuesday to Thursday from 12:00 p.m. to 3:00 p.m.\n\nWHERE:
  Dana Porter Library (next to the circulation desk)\n\n_Tuesday\, Septemb
 er 12 to Thursday\, December 7\, 2023._
DTSTAMP:20260422T141152Z
END:VEVENT
BEGIN:VEVENT
UID:69e8d72878090
DTSTART;TZID=America/Toronto:20230927T120000
SEQUENCE:0
TRANSP:TRANSPARENT
DTEND;TZID=America/Toronto:20230927T150000
URL:https://uwaterloo.ca/writing-and-communication-centre/events/drop-ins-d
 ana-porter-library-0
LOCATION:LIB - Dana Porter Library 200 University Avenue West Waterloo ON N
 2L 3G1 Canada
SUMMARY:Drop-ins at Dana Porter Library
CLASS:PUBLIC
DESCRIPTION:Drop-ins at Dana Porter Library are back for the Fall 2023 term
 ! Spots\nare walk-in only and are booked on a first come\, first served ba
 sis.\n\nWHEN: Tuesday to Thursday from 12:00 p.m. to 3:00 p.m.\n\nWHERE:
  Dana Porter Library (next to the circulation desk)\n\n_Tuesday\, Septemb
 er 12 to Thursday\, December 7\, 2023._
DTSTAMP:20260422T141152Z
END:VEVENT
BEGIN:VEVENT
UID:69e8d7287884c
DTSTART;TZID=America/Toronto:20231004T120000
SEQUENCE:0
TRANSP:TRANSPARENT
DTEND;TZID=America/Toronto:20231004T150000
URL:https://uwaterloo.ca/writing-and-communication-centre/events/drop-ins-d
 ana-porter-library-0
LOCATION:LIB - Dana Porter Library 200 University Avenue West Waterloo ON N
 2L 3G1 Canada
SUMMARY:Drop-ins at Dana Porter Library
CLASS:PUBLIC
DESCRIPTION:Drop-ins at Dana Porter Library are back for the Fall 2023 term
 ! Spots\nare walk-in only and are booked on a first come\, first served ba
 sis.\n\nWHEN: Tuesday to Thursday from 12:00 p.m. to 3:00 p.m.\n\nWHERE:
  Dana Porter Library (next to the circulation desk)\n\n_Tuesday\, Septemb
 er 12 to Thursday\, December 7\, 2023._
DTSTAMP:20260422T141152Z
END:VEVENT
BEGIN:VEVENT
UID:69e8d72878fd4
DTSTART;TZID=America/Toronto:20231011T120000
SEQUENCE:0
TRANSP:TRANSPARENT
DTEND;TZID=America/Toronto:20231011T150000
URL:https://uwaterloo.ca/writing-and-communication-centre/events/drop-ins-d
 ana-porter-library-0
LOCATION:LIB - Dana Porter Library 200 University Avenue West Waterloo ON N
 2L 3G1 Canada
SUMMARY:Drop-ins at Dana Porter Library
CLASS:PUBLIC
DESCRIPTION:Drop-ins at Dana Porter Library are back for the Fall 2023 term
 ! Spots\nare walk-in only and are booked on a first come\, first served ba
 sis.\n\nWHEN: Tuesday to Thursday from 12:00 p.m. to 3:00 p.m.\n\nWHERE:
  Dana Porter Library (next to the circulation desk)\n\n_Tuesday\, Septemb
 er 12 to Thursday\, December 7\, 2023._
DTSTAMP:20260422T141152Z
END:VEVENT
BEGIN:VEVENT
UID:69e8d7287979c
DTSTART;TZID=America/Toronto:20231018T120000
SEQUENCE:0
TRANSP:TRANSPARENT
DTEND;TZID=America/Toronto:20231018T150000
URL:https://uwaterloo.ca/writing-and-communication-centre/events/drop-ins-d
 ana-porter-library-0
LOCATION:LIB - Dana Porter Library 200 University Avenue West Waterloo ON N
 2L 3G1 Canada
SUMMARY:Drop-ins at Dana Porter Library
CLASS:PUBLIC
DESCRIPTION:Drop-ins at Dana Porter Library are back for the Fall 2023 term
 ! Spots\nare walk-in only and are booked on a first come\, first served ba
 sis.\n\nWHEN: Tuesday to Thursday from 12:00 p.m. to 3:00 p.m.\n\nWHERE:
  Dana Porter Library (next to the circulation desk)\n\n_Tuesday\, Septemb
 er 12 to Thursday\, December 7\, 2023._
DTSTAMP:20260422T141152Z
END:VEVENT
BEGIN:VEVENT
UID:69e8d72879f7f
DTSTART;TZID=America/Toronto:20231025T120000
SEQUENCE:0
TRANSP:TRANSPARENT
DTEND;TZID=America/Toronto:20231025T150000
URL:https://uwaterloo.ca/writing-and-communication-centre/events/drop-ins-d
 ana-porter-library-0
LOCATION:LIB - Dana Porter Library 200 University Avenue West Waterloo ON N
 2L 3G1 Canada
SUMMARY:Drop-ins at Dana Porter Library
CLASS:PUBLIC
DESCRIPTION:Drop-ins at Dana Porter Library are back for the Fall 2023 term
 ! Spots\nare walk-in only and are booked on a first come\, first served ba
 sis.\n\nWHEN: Tuesday to Thursday from 12:00 p.m. to 3:00 p.m.\n\nWHERE:
  Dana Porter Library (next to the circulation desk)\n\n_Tuesday\, Septemb
 er 12 to Thursday\, December 7\, 2023._
DTSTAMP:20260422T141152Z
END:VEVENT
BEGIN:VEVENT
UID:69e8d7287a885
DTSTART;TZID=America/Toronto:20231101T120000
SEQUENCE:0
TRANSP:TRANSPARENT
DTEND;TZID=America/Toronto:20231101T150000
URL:https://uwaterloo.ca/writing-and-communication-centre/events/drop-ins-d
 ana-porter-library-0
LOCATION:LIB - Dana Porter Library 200 University Avenue West Waterloo ON N
 2L 3G1 Canada
SUMMARY:Drop-ins at Dana Porter Library
CLASS:PUBLIC
DESCRIPTION:Drop-ins at Dana Porter Library are back for the Fall 2023 term
 ! Spots\nare walk-in only and are booked on a first come\, first served ba
 sis.\n\nWHEN: Tuesday to Thursday from 12:00 p.m. to 3:00 p.m.\n\nWHERE:
  Dana Porter Library (next to the circulation desk)\n\n_Tuesday\, Septemb
 er 12 to Thursday\, December 7\, 2023._
DTSTAMP:20260422T141152Z
END:VEVENT
BEGIN:VEVENT
UID:69e8d7287b121
DTSTART;TZID=America/Toronto:20231108T120000
SEQUENCE:0
TRANSP:TRANSPARENT
DTEND;TZID=America/Toronto:20231108T150000
URL:https://uwaterloo.ca/writing-and-communication-centre/events/drop-ins-d
 ana-porter-library-0
LOCATION:LIB - Dana Porter Library 200 University Avenue West Waterloo ON N
 2L 3G1 Canada
SUMMARY:Drop-ins at Dana Porter Library
CLASS:PUBLIC
DESCRIPTION:Drop-ins at Dana Porter Library are back for the Fall 2023 term
 ! Spots\nare walk-in only and are booked on a first come\, first served ba
 sis.\n\nWHEN: Tuesday to Thursday from 12:00 p.m. to 3:00 p.m.\n\nWHERE:
  Dana Porter Library (next to the circulation desk)\n\n_Tuesday\, Septemb
 er 12 to Thursday\, December 7\, 2023._
DTSTAMP:20260422T141152Z
END:VEVENT
BEGIN:VEVENT
UID:69e8d7287b8aa
DTSTART;TZID=America/Toronto:20231115T120000
SEQUENCE:0
TRANSP:TRANSPARENT
DTEND;TZID=America/Toronto:20231115T150000
URL:https://uwaterloo.ca/writing-and-communication-centre/events/drop-ins-d
 ana-porter-library-0
LOCATION:LIB - Dana Porter Library 200 University Avenue West Waterloo ON N
 2L 3G1 Canada
SUMMARY:Drop-ins at Dana Porter Library
CLASS:PUBLIC
DESCRIPTION:Drop-ins at Dana Porter Library are back for the Fall 2023 term
 ! Spots\nare walk-in only and are booked on a first come\, first served ba
 sis.\n\nWHEN: Tuesday to Thursday from 12:00 p.m. to 3:00 p.m.\n\nWHERE:
  Dana Porter Library (next to the circulation desk)\n\n_Tuesday\, Septemb
 er 12 to Thursday\, December 7\, 2023._
DTSTAMP:20260422T141152Z
END:VEVENT
BEGIN:VEVENT
UID:69e8d7287bff4
DTSTART;TZID=America/Toronto:20231122T120000
SEQUENCE:0
TRANSP:TRANSPARENT
DTEND;TZID=America/Toronto:20231122T150000
URL:https://uwaterloo.ca/writing-and-communication-centre/events/drop-ins-d
 ana-porter-library-0
LOCATION:LIB - Dana Porter Library 200 University Avenue West Waterloo ON N
 2L 3G1 Canada
SUMMARY:Drop-ins at Dana Porter Library
CLASS:PUBLIC
DESCRIPTION:Drop-ins at Dana Porter Library are back for the Fall 2023 term
 ! Spots\nare walk-in only and are booked on a first come\, first served ba
 sis.\n\nWHEN: Tuesday to Thursday from 12:00 p.m. to 3:00 p.m.\n\nWHERE:
  Dana Porter Library (next to the circulation desk)\n\n_Tuesday\, Septemb
 er 12 to Thursday\, December 7\, 2023._
DTSTAMP:20260422T141152Z
END:VEVENT
BEGIN:VEVENT
UID:69e8d7287c7c1
DTSTART;TZID=America/Toronto:20231129T120000
SEQUENCE:0
TRANSP:TRANSPARENT
DTEND;TZID=America/Toronto:20231129T150000
URL:https://uwaterloo.ca/writing-and-communication-centre/events/drop-ins-d
 ana-porter-library-0
LOCATION:LIB - Dana Porter Library 200 University Avenue West Waterloo ON N
 2L 3G1 Canada
SUMMARY:Drop-ins at Dana Porter Library
CLASS:PUBLIC
DESCRIPTION:Drop-ins at Dana Porter Library are back for the Fall 2023 term
 ! Spots\nare walk-in only and are booked on a first come\, first served ba
 sis.\n\nWHEN: Tuesday to Thursday from 12:00 p.m. to 3:00 p.m.\n\nWHERE:
  Dana Porter Library (next to the circulation desk)\n\n_Tuesday\, Septemb
 er 12 to Thursday\, December 7\, 2023._
DTSTAMP:20260422T141152Z
END:VEVENT
BEGIN:VEVENT
UID:69e8d7287cfc3
DTSTART;TZID=America/Toronto:20231206T120000
SEQUENCE:0
TRANSP:TRANSPARENT
DTEND;TZID=America/Toronto:20231206T150000
URL:https://uwaterloo.ca/writing-and-communication-centre/events/drop-ins-d
 ana-porter-library-0
LOCATION:LIB - Dana Porter Library 200 University Avenue West Waterloo ON N
 2L 3G1 Canada
SUMMARY:Drop-ins at Dana Porter Library
CLASS:PUBLIC
DESCRIPTION:Drop-ins at Dana Porter Library are back for the Fall 2023 term
 ! Spots\nare walk-in only and are booked on a first come\, first served ba
 sis.\n\nWHEN: Tuesday to Thursday from 12:00 p.m. to 3:00 p.m.\n\nWHERE:
  Dana Porter Library (next to the circulation desk)\n\n_Tuesday\, Septemb
 er 12 to Thursday\, December 7\, 2023._
DTSTAMP:20260422T141152Z
END:VEVENT
END:VCALENDAR