BEGIN:VCALENDAR
VERSION:2.0
PRODID:-//Drupal iCal API//EN
X-WR-CALNAME:Events items teaser
X-WR-TIMEZONE:America/Toronto
BEGIN:VTIMEZONE
TZID:America/Toronto
X-LIC-LOCATION:America/Toronto
BEGIN:DAYLIGHT
TZNAME:EDT
TZOFFSETFROM:-0500
TZOFFSETTO:-0400
DTSTART:20250309T070000
END:DAYLIGHT
BEGIN:STANDARD
TZNAME:EST
TZOFFSETFROM:-0400
TZOFFSETTO:-0500
DTSTART:20241103T060000
END:STANDARD
END:VTIMEZONE
BEGIN:VEVENT
UID:69e825d314a30
DTSTART;VALUE=DATE:20250313
SEQUENCE:0
TRANSP:TRANSPARENT
DTEND;VALUE=DATE:20250321
URL:https://uwaterloo.ca/writing-and-communication-centre/events/wcc-pop-up
 s
SUMMARY:WCC Pop-ups
CLASS:PUBLIC
DESCRIPTION:The WCC is back with another round of pop-up tutoring! 
X-MICROSOFT-CDO-ALLDAYEVENT:TRUE
DTSTAMP:20260422T013515Z
END:VEVENT
END:VCALENDAR